BEGIN:VCALENDAR
VERSION:2.0
PRODID:-//Secteur Cap-Diamant - ECPv5.14.0.4//NONSGML v1.0//EN
CALSCALE:GREGORIAN
METHOD:PUBLISH
X-WR-CALNAME:Secteur Cap-Diamant
X-ORIGINAL-URL:https://capdiamant.areq.lacsq.org
X-WR-CALDESC:évènements pour Secteur Cap-Diamant
BEGIN:VTIMEZONE
TZID:America/New_York
BEGIN:DAYLIGHT
TZOFFSETFROM:-0500
TZOFFSETTO:-0400
TZNAME:EDT
DTSTART:20190310T070000
END:DAYLIGHT
BEGIN:STANDARD
TZOFFSETFROM:-0400
TZOFFSETTO:-0500
TZNAME:EST
DTSTART:20191103T060000
END:STANDARD
END:VTIMEZONE
BEGIN:VEVENT
DTSTART;TZID=America/New_York:20190830T090000
DTEND;TZID=America/New_York:20190830T120000
DTSTAMP:20260422T132856
CREATED:20160612T185120Z
LAST-MODIFIED:20191125T200017Z
UID:222-1567155600-1567166400@capdiamant.areq.lacsq.org
SUMMARY:Activité de la rentrée
DESCRIPTION:Maison du Renouveau \nBulletin_août 2019 \n  \n 
URL:https://capdiamant.areq.lacsq.org/event/activite-de-rentree/
LOCATION:Maison du Renouveau\, 870\, carré de Tracy Est\, Québec
CATEGORIES:Activités sectorielles
END:VEVENT
END:VCALENDAR