BEGIN:VCALENDAR
VERSION:2.0
PRODID:-//Secteur Cap-Diamant - ECPv5.14.0.4//NONSGML v1.0//EN
CALSCALE:GREGORIAN
METHOD:PUBLISH
X-WR-CALNAME:Secteur Cap-Diamant
X-ORIGINAL-URL:https://capdiamant.areq.lacsq.org
X-WR-CALDESC:évènements pour Secteur Cap-Diamant
BEGIN:VTIMEZONE
TZID:America/New_York
BEGIN:DAYLIGHT
TZOFFSETFROM:-0500
TZOFFSETTO:-0400
TZNAME:EDT
DTSTART:20200308T070000
END:DAYLIGHT
BEGIN:STANDARD
TZOFFSETFROM:-0400
TZOFFSETTO:-0500
TZNAME:EST
DTSTART:20201101T060000
END:STANDARD
END:VTIMEZONE
BEGIN:VEVENT
DTSTART;TZID=America/New_York:20200309T090000
DTEND;TZID=America/New_York:20200309T150000
DTSTAMP:20260422T020723
CREATED:20160617T143200Z
LAST-MODIFIED:20191217T212501Z
UID:338-1583744400-1583766000@capdiamant.areq.lacsq.org
SUMMARY:Activité régionale des femmes
DESCRIPTION:  \n 
URL:https://capdiamant.areq.lacsq.org/event/activite-regionale-femmes/
LOCATION:Hôtel Québec\, 3115\, av. des Hôtels\, Québec
CATEGORIES:Activités régionales
END:VEVENT
END:VCALENDAR