BEGIN:VCALENDAR
VERSION:2.0
PRODID:-//Secteur Cap-Diamant - ECPv5.14.0.4//NONSGML v1.0//EN
CALSCALE:GREGORIAN
METHOD:PUBLISH
X-WR-CALNAME:Secteur Cap-Diamant
X-ORIGINAL-URL:https://capdiamant.areq.lacsq.org
X-WR-CALDESC:évènements pour Secteur Cap-Diamant
BEGIN:VTIMEZONE
TZID:America/New_York
BEGIN:DAYLIGHT
TZOFFSETFROM:-0500
TZOFFSETTO:-0400
TZNAME:EDT
DTSTART:20190310T070000
END:DAYLIGHT
BEGIN:STANDARD
TZOFFSETFROM:-0400
TZOFFSETTO:-0500
TZNAME:EST
DTSTART:20191103T060000
END:STANDARD
END:VTIMEZONE
BEGIN:VEVENT
DTSTART;TZID=America/New_York:20191017T093000
DTEND;TZID=America/New_York:20191017T150000
DTSTAMP:20260422T094728
CREATED:20191219T212026Z
LAST-MODIFIED:20191219T212026Z
UID:1167-1571304600-1571324400@capdiamant.areq.lacsq.org
SUMMARY:Activité régionale Retraite/Assurances
DESCRIPTION:Bulletin_août 2019
URL:https://capdiamant.areq.lacsq.org/event/activite-regionale-retraite-assurances/
LOCATION:Hôtel Québec\, 3115\, av. des Hôtels\, Québec
CATEGORIES:Activités régionales
END:VEVENT
END:VCALENDAR