BEGIN:VCALENDAR
VERSION:2.0
PRODID:-//Secteur Cap-Diamant - ECPv5.14.0.4//NONSGML v1.0//EN
CALSCALE:GREGORIAN
METHOD:PUBLISH
X-WR-CALNAME:Secteur Cap-Diamant
X-ORIGINAL-URL:https://capdiamant.areq.lacsq.org
X-WR-CALDESC:évènements pour Secteur Cap-Diamant
BEGIN:VTIMEZONE
TZID:America/New_York
BEGIN:DAYLIGHT
TZOFFSETFROM:-0500
TZOFFSETTO:-0400
TZNAME:EDT
DTSTART:20200308T070000
END:DAYLIGHT
BEGIN:STANDARD
TZOFFSETFROM:-0400
TZOFFSETTO:-0500
TZNAME:EST
DTSTART:20201101T060000
END:STANDARD
END:VTIMEZONE
BEGIN:VEVENT
DTSTART;TZID=America/New_York:20200403T110000
DTEND;TZID=America/New_York:20200403T150000
DTSTAMP:20260421T231711
CREATED:20160617T221459Z
LAST-MODIFIED:20191217T163929Z
UID:356-1585911600-1585926000@capdiamant.areq.lacsq.org
SUMMARY:Cabane à sucre
DESCRIPTION:Érablière L’en-Tailleur \nSaint-Pierre\, île d’Orléans \n 
URL:https://capdiamant.areq.lacsq.org/event/cabane-a-sucre/
CATEGORIES:Activités sectorielles
END:VEVENT
END:VCALENDAR