BEGIN:VCALENDAR
VERSION:2.0
PRODID:-//Secteur Cap-Diamant - ECPv5.14.0.4//NONSGML v1.0//EN
CALSCALE:GREGORIAN
METHOD:PUBLISH
X-WR-CALNAME:Secteur Cap-Diamant
X-ORIGINAL-URL:https://capdiamant.areq.lacsq.org
X-WR-CALDESC:évènements pour Secteur Cap-Diamant
BEGIN:VTIMEZONE
TZID:America/New_York
BEGIN:DAYLIGHT
TZOFFSETFROM:-0500
TZOFFSETTO:-0400
TZNAME:EDT
DTSTART:20190310T070000
END:DAYLIGHT
BEGIN:STANDARD
TZOFFSETFROM:-0400
TZOFFSETTO:-0500
TZNAME:EST
DTSTART:20191103T060000
END:STANDARD
END:VTIMEZONE
BEGIN:VEVENT
DTSTART;TZID=America/New_York:20191125T090000
DTEND;TZID=America/New_York:20191125T150000
DTSTAMP:20260422T064051
CREATED:20160616T210757Z
LAST-MODIFIED:20191218T195347Z
UID:287-1574672400-1574694000@capdiamant.areq.lacsq.org
SUMMARY:Conseil régional
DESCRIPTION:
URL:https://capdiamant.areq.lacsq.org/event/conseil-regional-2/
LOCATION:Hôtel Normandin
CATEGORIES:Conseil régional
END:VEVENT
END:VCALENDAR