BEGIN:VCALENDAR
VERSION:2.0
PRODID:-//Secteur Cap-Diamant - ECPv5.14.0.4//NONSGML v1.0//EN
CALSCALE:GREGORIAN
METHOD:PUBLISH
X-WR-CALNAME:Secteur Cap-Diamant
X-ORIGINAL-URL:https://capdiamant.areq.lacsq.org
X-WR-CALDESC:évènements pour Secteur Cap-Diamant
BEGIN:VTIMEZONE
TZID:America/New_York
BEGIN:DAYLIGHT
TZOFFSETFROM:-0500
TZOFFSETTO:-0400
TZNAME:EDT
DTSTART:20190310T070000
END:DAYLIGHT
BEGIN:STANDARD
TZOFFSETFROM:-0400
TZOFFSETTO:-0500
TZNAME:EST
DTSTART:20191103T060000
END:STANDARD
END:VTIMEZONE
BEGIN:VEVENT
DTSTART;TZID=America/New_York:20191115T130000
DTEND;TZID=America/New_York:20191115T150000
DTSTAMP:20260422T075428
CREATED:20160615T210402Z
LAST-MODIFIED:20191219T213012Z
UID:264-1573822800-1573830000@capdiamant.areq.lacsq.org
SUMMARY:Dîner-conférence
DESCRIPTION:La marche nordique… qu’est-ce que c’est? \nMadame Any Rouleau\, conférencière
URL:https://capdiamant.areq.lacsq.org/event/diner-conference-1/
LOCATION:Club social Victoria\, 170\, rue du Cardinal-Maurice-Roy\, québec\, QC
CATEGORIES:Activités sectorielles
END:VEVENT
END:VCALENDAR