BEGIN:VCALENDAR
VERSION:2.0
PRODID:-//Secteur Cap-Diamant - ECPv5.14.0.4//NONSGML v1.0//EN
CALSCALE:GREGORIAN
METHOD:PUBLISH
X-WR-CALNAME:Secteur Cap-Diamant
X-ORIGINAL-URL:https://capdiamant.areq.lacsq.org
X-WR-CALDESC:évènements pour Secteur Cap-Diamant
BEGIN:VTIMEZONE
TZID:America/New_York
BEGIN:DAYLIGHT
TZOFFSETFROM:-0500
TZOFFSETTO:-0400
TZNAME:EDT
DTSTART:20190310T070000
END:DAYLIGHT
BEGIN:STANDARD
TZOFFSETFROM:-0400
TZOFFSETTO:-0500
TZNAME:EST
DTSTART:20191103T060000
END:STANDARD
END:VTIMEZONE
BEGIN:VEVENT
DTSTART;TZID=America/New_York:20191112T120000
DTEND;TZID=America/New_York:20191112T140000
DTSTAMP:20260422T075428
CREATED:20161112T210209Z
LAST-MODIFIED:20191219T210133Z
UID:821-1573560000-1573567200@capdiamant.areq.lacsq.org
SUMMARY:Les dîners de Lise
DESCRIPTION:Le Batifol\, hôtel Ambassadeur
URL:https://capdiamant.areq.lacsq.org/event/diner-de-lise/
CATEGORIES:Les dîners de Lise
END:VEVENT
END:VCALENDAR