BEGIN:VCALENDAR
VERSION:2.0
PRODID:-//Secteur Cap-Diamant - ECPv5.14.0.4//NONSGML v1.0//EN
CALSCALE:GREGORIAN
METHOD:PUBLISH
X-WR-CALNAME:Secteur Cap-Diamant
X-ORIGINAL-URL:https://capdiamant.areq.lacsq.org
X-WR-CALDESC:évènements pour Secteur Cap-Diamant
BEGIN:VTIMEZONE
TZID:America/New_York
BEGIN:DAYLIGHT
TZOFFSETFROM:-0500
TZOFFSETTO:-0400
TZNAME:EDT
DTSTART:20190310T070000
END:DAYLIGHT
BEGIN:STANDARD
TZOFFSETFROM:-0400
TZOFFSETTO:-0500
TZNAME:EST
DTSTART:20191103T060000
END:STANDARD
END:VTIMEZONE
BEGIN:VEVENT
DTSTART;TZID=America/New_York:20191213T100000
DTEND;TZID=America/New_York:20191213T150000
DTSTAMP:20260422T062042
CREATED:20160615T214553Z
LAST-MODIFIED:20191218T193945Z
UID:281-1576231200-1576249200@capdiamant.areq.lacsq.org
SUMMARY:Dîner de Noël
DESCRIPTION:Salon des créatrices et créateurs suivi du dîner
URL:https://capdiamant.areq.lacsq.org/event/diner-de-noel/
LOCATION:Hôtel Québec\, 3115\, av. des Hôtels\, Québec
CATEGORIES:Activités sectorielles
END:VEVENT
END:VCALENDAR