BEGIN:VCALENDAR
VERSION:2.0
PRODID:-//Secteur Cap-Diamant - ECPv5.14.0.4//NONSGML v1.0//EN
CALSCALE:GREGORIAN
METHOD:PUBLISH
X-WR-CALNAME:Secteur Cap-Diamant
X-ORIGINAL-URL:https://capdiamant.areq.lacsq.org
X-WR-CALDESC:évènements pour Secteur Cap-Diamant
BEGIN:VTIMEZONE
TZID:America/New_York
BEGIN:DAYLIGHT
TZOFFSETFROM:-0500
TZOFFSETTO:-0400
TZNAME:EDT
DTSTART:20200308T070000
END:DAYLIGHT
BEGIN:STANDARD
TZOFFSETFROM:-0400
TZOFFSETTO:-0500
TZNAME:EST
DTSTART:20201101T060000
END:STANDARD
END:VTIMEZONE
BEGIN:VEVENT
DTSTART;TZID=America/New_York:20200409T140000
DTEND;TZID=America/New_York:20200409T163000
DTSTAMP:20260421T225250
CREATED:20180727T193003Z
LAST-MODIFIED:20191219T210913Z
UID:1064-1586440800-1586449800@capdiamant.areq.lacsq.org
SUMMARY:Les Violons du Roy
DESCRIPTION:Des violons jusqu’à l’aube
URL:https://capdiamant.areq.lacsq.org/event/les-violons-du-roy-2/
LOCATION:Palais Montcalm
CATEGORIES:Violons du Roy
END:VEVENT
END:VCALENDAR