BEGIN:VCALENDAR
VERSION:2.0
PRODID:-//Secteur Cap-Diamant - ECPv5.14.0.4//NONSGML v1.0//EN
CALSCALE:GREGORIAN
METHOD:PUBLISH
X-WR-CALNAME:Secteur Cap-Diamant
X-ORIGINAL-URL:https://capdiamant.areq.lacsq.org
X-WR-CALDESC:évènements pour Secteur Cap-Diamant
BEGIN:VTIMEZONE
TZID:America/New_York
BEGIN:DAYLIGHT
TZOFFSETFROM:-0500
TZOFFSETTO:-0400
TZNAME:EDT
DTSTART:20190310T070000
END:DAYLIGHT
BEGIN:STANDARD
TZOFFSETFROM:-0400
TZOFFSETTO:-0500
TZNAME:EST
DTSTART:20191103T060000
END:STANDARD
END:VTIMEZONE
BEGIN:VEVENT
DTSTART;TZID=America/New_York:20191211T093000
DTEND;TZID=America/New_York:20191211T110000
DTSTAMP:20260422T074601
CREATED:20160616T211733Z
LAST-MODIFIED:20191218T211228Z
UID:293-1576056600-1576062000@capdiamant.areq.lacsq.org
SUMMARY:Scrabble
DESCRIPTION:
URL:https://capdiamant.areq.lacsq.org/event/scrabble-15/
LOCATION:Centre Marchand\, 2740\, 2e Avenue\, Québec
CATEGORIES:Scrabble
END:VEVENT
END:VCALENDAR