BEGIN:VCALENDAR
VERSION:2.0
PRODID:-//Secteur Cap-Diamant - ECPv5.14.0.4//NONSGML v1.0//EN
CALSCALE:GREGORIAN
METHOD:PUBLISH
X-WR-CALNAME:Secteur Cap-Diamant
X-ORIGINAL-URL:https://capdiamant.areq.lacsq.org
X-WR-CALDESC:évènements pour Secteur Cap-Diamant
BEGIN:VTIMEZONE
TZID:America/New_York
BEGIN:DAYLIGHT
TZOFFSETFROM:-0500
TZOFFSETTO:-0400
TZNAME:EDT
DTSTART:20200308T070000
END:DAYLIGHT
BEGIN:STANDARD
TZOFFSETFROM:-0400
TZOFFSETTO:-0500
TZNAME:EST
DTSTART:20201101T060000
END:STANDARD
END:VTIMEZONE
BEGIN:VEVENT
DTSTART;TZID=America/New_York:20200204T130000
DTEND;TZID=America/New_York:20200204T150000
DTSTAMP:20260422T034637
CREATED:20160616T212926Z
LAST-MODIFIED:20191219T204959Z
UID:301-1580821200-1580828400@capdiamant.areq.lacsq.org
SUMMARY:Théâtre de la Bordée
DESCRIPTION:Les mains d’Edwige au moment de la naissance \nTexte de Wajdi Mouawad \nMise en scène : Jocelyn Pelletier
URL:https://capdiamant.areq.lacsq.org/event/th/
LOCATION:Théâtre la Bordée\, 315\, rue Saint-Joseph est\, Québec
CATEGORIES:Théâtre de la Bordée
END:VEVENT
END:VCALENDAR