BEGIN:VCALENDAR
VERSION:2.0
PRODID:-//Secteur Cap-Diamant - ECPv5.14.0.4//NONSGML v1.0//EN
CALSCALE:GREGORIAN
METHOD:PUBLISH
X-WR-CALNAME:Secteur Cap-Diamant
X-ORIGINAL-URL:https://capdiamant.areq.lacsq.org
X-WR-CALDESC:évènements pour Secteur Cap-Diamant
BEGIN:VTIMEZONE
TZID:America/New_York
BEGIN:DAYLIGHT
TZOFFSETFROM:-0500
TZOFFSETTO:-0400
TZNAME:EDT
DTSTART:20200308T070000
END:DAYLIGHT
BEGIN:STANDARD
TZOFFSETFROM:-0400
TZOFFSETTO:-0500
TZNAME:EST
DTSTART:20201101T060000
END:STANDARD
END:VTIMEZONE
BEGIN:VEVENT
DTSTART;TZID=America/New_York:20200505T130000
DTEND;TZID=America/New_York:20200505T150000
DTSTAMP:20260421T212824
CREATED:20160619T145306Z
LAST-MODIFIED:20191219T205636Z
UID:361-1588683600-1588690800@capdiamant.areq.lacsq.org
SUMMARY:Théâtre de la Bordée
DESCRIPTION:Made in Beautiful (La belle province) \nTexte et mise en scène : Olivier Arteau
URL:https://capdiamant.areq.lacsq.org/event/theatre-de-bordee-5/
LOCATION:Théâtre la Bordée\, 315\, rue Saint-Joseph est\, Québec
CATEGORIES:Théâtre de la Bordée
END:VEVENT
END:VCALENDAR