BEGIN:VCALENDAR
VERSION:2.0
PRODID:-//Secteur Cap-Diamant - ECPv5.14.0.4//NONSGML v1.0//EN
CALSCALE:GREGORIAN
METHOD:PUBLISH
X-WR-CALNAME:Secteur Cap-Diamant
X-ORIGINAL-URL:https://capdiamant.areq.lacsq.org
X-WR-CALDESC:évènements pour Secteur Cap-Diamant
BEGIN:VTIMEZONE
TZID:America/New_York
BEGIN:DAYLIGHT
TZOFFSETFROM:-0500
TZOFFSETTO:-0400
TZNAME:EDT
DTSTART:20190310T070000
END:DAYLIGHT
BEGIN:STANDARD
TZOFFSETFROM:-0400
TZOFFSETTO:-0500
TZNAME:EST
DTSTART:20191103T060000
END:STANDARD
END:VTIMEZONE
BEGIN:VEVENT
DTSTART;TZID=America/New_York:20191008T130000
DTEND;TZID=America/New_York:20191008T150000
DTSTAMP:20260422T114022
CREATED:20160612T205110Z
LAST-MODIFIED:20191219T205205Z
UID:243-1570539600-1570546800@capdiamant.areq.lacsq.org
SUMMARY:Théâtre la Bordée
DESCRIPTION:Lentement la beauté \nTexte de Michel Nadeau\, en collectif
URL:https://capdiamant.areq.lacsq.org/event/theatre-la-bordee/
LOCATION:Théâtre la Bordée\, 315\, rue Saint-Joseph est\, Québec
CATEGORIES:Théâtre de la Bordée
END:VEVENT
END:VCALENDAR